BEGIN:VCALENDAR
VERSION:2.0
PRODID:-//TYPO3/NONSGML Calendarize//EN
BEGIN:VEVENT
UID:calendarize-graduierung-und-ernennung-des-29-bachelorstudiengangs-poli
 zeidienst
DTSTAMP:20260424T135824Z
DTSTART:20260430T090000Z
DTEND:20260430T110000Z
SUMMARY:Graduierung und Ernennung des 29. Bachelorstudiengangs Polizeidien
 st
DESCRIPTION:in Morbach
X-ALT-DESC;FMTTYPE=text/html:<p>in Morbach</p>
LOCATION:
END:VEVENT
END:VCALENDAR
