BEGIN:VCALENDAR
VERSION:2.0
PRODID:-//TYPO3/NONSGML Calendarize//EN
BEGIN:VEVENT
UID:calendarize-sonderplenum
DTSTAMP:20260424T135905Z
DTSTART:20260429T110000Z
DTEND:20260429T123000Z
SUMMARY:Sonderplenum
DESCRIPTION:
X-ALT-DESC;FMTTYPE=text/html:
LOCATION:
END:VEVENT
END:VCALENDAR
